BEGIN:VCALENDAR
VERSION:2.0
PRODID:-//Association Envies - ECPv6.15.15//NONSGML v1.0//EN
CALSCALE:GREGORIAN
METHOD:PUBLISH
X-ORIGINAL-URL:https://envies.ch
X-WR-CALDESC:Évènements pour Association Envies
REFRESH-INTERVAL;VALUE=DURATION:PT1H
X-Robots-Tag:noindex
X-PUBLISHED-TTL:PT1H
BEGIN:VTIMEZONE
TZID:Europe/Zurich
BEGIN:DAYLIGHT
TZOFFSETFROM:+0100
TZOFFSETTO:+0200
TZNAME:CEST
DTSTART:20240331T010000
END:DAYLIGHT
BEGIN:STANDARD
TZOFFSETFROM:+0200
TZOFFSETTO:+0100
TZNAME:CET
DTSTART:20241027T010000
END:STANDARD
BEGIN:DAYLIGHT
TZOFFSETFROM:+0100
TZOFFSETTO:+0200
TZNAME:CEST
DTSTART:20250330T010000
END:DAYLIGHT
BEGIN:STANDARD
TZOFFSETFROM:+0200
TZOFFSETTO:+0100
TZNAME:CET
DTSTART:20251026T010000
END:STANDARD
BEGIN:DAYLIGHT
TZOFFSETFROM:+0100
TZOFFSETTO:+0200
TZNAME:CEST
DTSTART:20260329T010000
END:DAYLIGHT
BEGIN:STANDARD
TZOFFSETFROM:+0200
TZOFFSETTO:+0100
TZNAME:CET
DTSTART:20261025T010000
END:STANDARD
END:VTIMEZONE
BEGIN:VEVENT
DTSTART;TZID=Europe/Zurich:20250130T090000
DTEND;TZID=Europe/Zurich:20250130T163000
DTSTAMP:20260420T170039
CREATED:20240423T152332Z
LAST-MODIFIED:20240428T121321Z
UID:3542-1738227600-1738254600@envies.ch
SUMMARY:Evidence et neuroscience: l'enfance\, autre chose\, autrement...\, 30 & 31 Janvier 2025
DESCRIPTION:Dans cette formation\, accompagné.es de Samah Karaki neuroscientifique en quête d’humanité\, nous démêlerons ensemble les barrières qui freinent l’émancipation des enfants en suivant un modèle de conduite de changement issu des disciplines des neurosciences cognitives. Pour y parvenir\, nous mènerons ensemble une enquête pour dénicher les causes d’un désenchantement dans le domaine de la petite enfance. Si notre monde est malade dans son rapport au vivant et au réel\, la petite enfance n’échappe pas à cette perte de sens. Cette enquête collective nous permettra de définir notre marge de manoeuvre et d’élaborer un plan d’action qui permet de guérir le mal à sa source. \n\n\n\n\n\n\n\n\n\n\n\n\n\n\n\n\n\n\n\n\n\nIntervenante\n\n\n\nSamah Karaki est une neuroscientifique franco-libanaise\, auteure et experte en santé mentale\, apprentissage et culture organisationnelle. Elle est titulaire d’un doctorat en neurosciences\, d’un master en neurobiologie et d’une maîtrise en biodiversité et écologie. \n\n\n\nElle est la fondatrice et directrice du Social Brain Institute\, une ONG basée à Genève quis’appuie sur les sciences cognitives et sociales pour gérer les enjeux sociaux et environnementaux. Elle est l’auteur de “Le travail en équipe“\, éditions Dunod\, 2021 ; et “Le talent est une fiction“\, éditions JC Lattès\, Janvier 2023. \n\n\n\n\n\n\n\n\n\nModalités\n\n\n\n\n\n\n\n\n\n\n\n\n\n\nContenu et inscription
URL:https://envies.ch/evenement/evidence-et-neuroscience-lenfance-autre-chose-autrement-30-31-janvier-2025/
LOCATION:Salle de formation à côté de la gare\, Rue Elisabeth-Baulacre 14\, GENÈVE\, 1202\, Suisse
CATEGORIES:formation
ATTACH;FMTTYPE=image/jpeg:https://envies.ch/wp-content/uploads/2023/11/formation-envies-geneve.jpg
END:VEVENT
END:VCALENDAR