BEGIN:VCALENDAR
VERSION:2.0
PRODID:-//Association Envies - ECPv6.15.15//NONSGML v1.0//EN
CALSCALE:GREGORIAN
METHOD:PUBLISH
X-ORIGINAL-URL:https://envies.ch
X-WR-CALDESC:Évènements pour Association Envies
REFRESH-INTERVAL;VALUE=DURATION:PT1H
X-Robots-Tag:noindex
X-PUBLISHED-TTL:PT1H
BEGIN:VTIMEZONE
TZID:Europe/Zurich
BEGIN:DAYLIGHT
TZOFFSETFROM:+0100
TZOFFSETTO:+0200
TZNAME:CEST
DTSTART:20240331T010000
END:DAYLIGHT
BEGIN:STANDARD
TZOFFSETFROM:+0200
TZOFFSETTO:+0100
TZNAME:CET
DTSTART:20241027T010000
END:STANDARD
BEGIN:DAYLIGHT
TZOFFSETFROM:+0100
TZOFFSETTO:+0200
TZNAME:CEST
DTSTART:20250330T010000
END:DAYLIGHT
BEGIN:STANDARD
TZOFFSETFROM:+0200
TZOFFSETTO:+0100
TZNAME:CET
DTSTART:20251026T010000
END:STANDARD
BEGIN:DAYLIGHT
TZOFFSETFROM:+0100
TZOFFSETTO:+0200
TZNAME:CEST
DTSTART:20260329T010000
END:DAYLIGHT
BEGIN:STANDARD
TZOFFSETFROM:+0200
TZOFFSETTO:+0100
TZNAME:CET
DTSTART:20261025T010000
END:STANDARD
END:VTIMEZONE
BEGIN:VEVENT
DTSTART;TZID=Europe/Zurich:20250403T090000
DTEND;TZID=Europe/Zurich:20250403T163000
DTSTAMP:20260420T113843
CREATED:20240423T154805Z
LAST-MODIFIED:20240428T121702Z
UID:3562-1743670800-1743697800@envies.ch
SUMMARY:Terreau de l'éveil culturel et créatif\, 03 & 04 avril 2025
DESCRIPTION:Art et culture par où passez-vous ? Les professionnels de l’enfance ont\, bien plus qu’ils ne l’imaginent\, le pouvoir de participer à l’éveil culturel et artistique des tout petits. Bien au-delà des spectacles et des musées nous évoquerons ces entre-temps\, entre-spectacles\, entre-ateliers\, un quotidien où peut se glisser\, une nourriture culturelle et artistique riche et diversifiée. Vers autre chose autrement … \n\n\n\n\n\n\n\nModalités\n\n\n\n\n\n\n\n\n\n\n\n\nContenu et inscription
URL:https://envies.ch/evenement/terreau-de-leveil-culturel-et-artistique-03-04-avril-2025/
LOCATION:Salle de formation à côté de la gare\, Rue Elisabeth-Baulacre 14\, GENÈVE\, 1202\, Suisse
CATEGORIES:formation
ATTACH;FMTTYPE=image/png:https://envies.ch/wp-content/uploads/2024/01/2024_Terreau-1.png
END:VEVENT
BEGIN:VEVENT
DTSTART;TZID=Europe/Zurich:20250408T090000
DTEND;TZID=Europe/Zurich:20250408T163000
DTSTAMP:20260420T113843
CREATED:20240428T114123Z
LAST-MODIFIED:20240501T133609Z
UID:3566-1744102800-1744129800@envies.ch
SUMMARY:Le musée dans la vie des tout petits\, 08 avril 2025
DESCRIPTION:A la question quelle place pour les tout petits au musée\, l’association Envies préfère interroger la place du musée dans la vie des tout-petits… une inversion qui\, mine de rien\, décale la perspective et suggère autre chose\, autrement … \n\n\n\nCette journée prendra appui sur la Charte des éveilleurs et des éveilleuses. \n\n\n\n\n\n\n\nModalités\n\n\n\n\n\n\n\n\n\n\n\n\nContenu et inscription
URL:https://envies.ch/evenement/le-musee-dans-la-vie-des-tout-petits-8-avril-2025/
LOCATION:Musée Ethnographique\, Boulevard Carl-Vogt 67 CH\, Genève\, 1205\, Suisse
CATEGORIES:formation
ATTACH;FMTTYPE=image/jpeg:https://envies.ch/wp-content/uploads/2023/12/formation-tout-petits.jpg
END:VEVENT
END:VCALENDAR