BEGIN:VCALENDAR
VERSION:2.0
PRODID:-//Association Envies - ECPv6.15.15//NONSGML v1.0//EN
CALSCALE:GREGORIAN
METHOD:PUBLISH
X-WR-CALNAME:Association Envies
X-ORIGINAL-URL:https://envies.ch
X-WR-CALDESC:Évènements pour Association Envies
REFRESH-INTERVAL;VALUE=DURATION:PT1H
X-Robots-Tag:noindex
X-PUBLISHED-TTL:PT1H
BEGIN:VTIMEZONE
TZID:Europe/Zurich
BEGIN:DAYLIGHT
TZOFFSETFROM:+0100
TZOFFSETTO:+0200
TZNAME:CEST
DTSTART:20250330T010000
END:DAYLIGHT
BEGIN:STANDARD
TZOFFSETFROM:+0200
TZOFFSETTO:+0100
TZNAME:CET
DTSTART:20251026T010000
END:STANDARD
BEGIN:DAYLIGHT
TZOFFSETFROM:+0100
TZOFFSETTO:+0200
TZNAME:CEST
DTSTART:20260329T010000
END:DAYLIGHT
BEGIN:STANDARD
TZOFFSETFROM:+0200
TZOFFSETTO:+0100
TZNAME:CET
DTSTART:20261025T010000
END:STANDARD
BEGIN:DAYLIGHT
TZOFFSETFROM:+0100
TZOFFSETTO:+0200
TZNAME:CEST
DTSTART:20270328T010000
END:DAYLIGHT
BEGIN:STANDARD
TZOFFSETFROM:+0200
TZOFFSETTO:+0100
TZNAME:CET
DTSTART:20271031T010000
END:STANDARD
END:VTIMEZONE
BEGIN:VEVENT
DTSTART;TZID=Europe/Zurich:20260303T090000
DTEND;TZID=Europe/Zurich:20260303T163000
DTSTAMP:20260419T144749
CREATED:20260131T055041Z
LAST-MODIFIED:20260131T055043Z
UID:3738-1772528400-1772555400@envies.ch
SUMMARY:Le musée dans la vie des tout petits\,              3 mars 2026
DESCRIPTION:A la question quelle place pour les tout petits au musée\, l’association Envies préfère interroger la place du musée dans la vie des tout-petits… une inversion qui\, mine de rien\, décale la perspective et suggère autre chose\, autrement … \n\n\n\nCette journée prendra appui sur la Charte des éveilleurs et des éveilleuses. \n\n\n\n\nTrois questions guideront nos échanges  \n\n\n\n\nQuelle place le MEG ou d’autres musées peuvent-ils occuper dans la vie des tout-petits ?\n\n\n\nPourquoi la mission d’éveil culturel commence au cœur du quotidien des enfants bien avant le déplacement au musée. \n\n\n\nComment inventer et vivre des rencontres singulières\, dans et hors du musée\, porteuses de sens sans alourdir le quotidien.\n\n\n\n\nCe que vous en retirerez : \n\n\n\n\nDes réflexions ancrées dans votre réalité professionnelle\n\n\n\nDes outils pour vous engager simplement dans une démarche d’éveil culturel et artistique.\n\n\n\nUne respiration dans votre pratique\, loin des injonctions et de la surcharge\n\n\n\n\nParce que vous méritez des espaces où penser votre métier autrement. \n\n\n\n\n\n\n\n\n\nInscription et renseignements avant le 23 février 2026 par mail à publics.meg@geneve.ch avec mention « Le musée dans la vie des tout-petits 3 mars 2026 ». \n\n\n\nNombre de places limitées. \n\n\n\n\n\n\n\n\n\nContenu et inscription
URL:https://envies.ch/evenement/le-musee-dans-la-vie-des-tout-petits-3-mars-2026/
LOCATION:Musée Ethnographique\, Boulevard Carl-Vogt 67 CH\, Genève\, 1205\, Suisse
CATEGORIES:formation
ATTACH;FMTTYPE=image/jpeg:https://envies.ch/wp-content/uploads/2023/12/formation-tout-petits.jpg
END:VEVENT
END:VCALENDAR